BEGIN:VCALENDAR
VERSION:2.0
PRODID:-//http://www.aonavic.com.au///NONSGML kigkonsult.se iCalcreator 2.10.15//
METHOD:PUBLISH
BEGIN:VEVENT
UID:20200229T173544UTC-2563U7uhMd@http://www.aonavic.com.au/
DTSTAMP:20200229T173544Z
DESCRIPTION:AONAVIC S.A Branch Clinical Meeting Kingswood Eye Centre 24th O
 ctober from 18:30Dr Simon Phipps will present Glaucoma and updates of trea
 tment\n http://www.aonavic.com.au/index.php/component/rseventspro/event/36
 -aonavic-s-a-branch-clinical-meeting-24th-october-2018-from-18-30
DTSTART:20181024T073000Z
DTEND:20181024T093000Z
LOCATION:Kingswood Eye Centre\, 367 Glen Osmond Road\, Adelaide S.A. 5046  
  (367 Glen Osmond Rd\, Glen Osmond SA 5064\, Australia)
SUMMARY:AONAVIC S.A. Branch Clinical Meeting. 24th October 2018 from 18:30
URL:http://www.aonavic.com.au/index.php/component/rseventspro/event/36-aona
 vic-s-a-branch-clinical-meeting-24th-october-2018-from-18-30
END:VEVENT
END:VCALENDAR
