BEGIN:VCALENDAR
VERSION:2.0
PRODID:-//http://www.aonavic.com.au///NONSGML kigkonsult.se iCalcreator 2.10.15//
METHOD:PUBLISH
BEGIN:VEVENT
UID:20200229T173642UTC-0663EgJe5n@http://www.aonavic.com.au/
DTSTAMP:20200229T173642Z
DESCRIPTION:EVENT FULLY BOOKEDTo be placed on the wait list\, please contac
 t infovic@aonavic.com.au\n\noff street parking http://www.aonavic.com.au/i
 ndex.php/component/rseventspro/event/43-aonavic-clinical-meeting-melbourne
 -fully-booked
DTSTART:20170428T233000Z
DTEND:20170429T033000Z
LOCATION:100 Victoria St\, East Melbourne VIC 3002 (100 Victoria St\, East 
 Melbourne VIC 3002)
SUMMARY:AONAVIC Clinical Meeting - Melbourne FULLY BOOKED
URL:http://www.aonavic.com.au/index.php/component/rseventspro/event/43-aona
 vic-clinical-meeting-melbourne-fully-booked
END:VEVENT
END:VCALENDAR
