BEGIN:VCALENDAR
VERSION:2.0
PRODID:-//http://www.aonavic.com.au///NONSGML kigkonsult.se iCalcreator 2.10.15//
METHOD:PUBLISH
BEGIN:VEVENT
UID:20200229T173634UTC-0250Ufpttv@http://www.aonavic.com.au/
DTSTAMP:20200229T173634Z
DESCRIPTION:AONAVIC S.A. branch in conjunction with Johnson &amp\; Johnson 
 present\nIOL's in the making\, IOL Optics - Refractive Error &amp\; High P
 recision Biometry\n&nbsp\;Click here to link to flyers\n&nbsp\;\n&nbsp\; h
 ttp://www.aonavic.com.au/index.php/component/rseventspro/event/52-aonavic-
 s-a-branch-clinical-meeting-the-lion-hotel-161-melbourne-st-north-adelaide
DTSTART:20171129T073000Z
DTEND:20171129T100000Z
LOCATION:The Lion Hotel\, Melbourne St\, North Adelaide\, S.A. ()
SUMMARY:AONAVIC S.A. Branch Clinical Meeting - The Lion Hotel\, 161 Melbour
 ne St\, North Adelaide
URL:http://www.aonavic.com.au/index.php/component/rseventspro/event/52-aona
 vic-s-a-branch-clinical-meeting-the-lion-hotel-161-melbourne-st-north-adel
 aide
END:VEVENT
END:VCALENDAR
