BEGIN:VCALENDAR
VERSION:2.0
PRODID:-//http://www.aonavic.com.au///NONSGML kigkonsult.se iCalcreator 2.10.15//
METHOD:PUBLISH
BEGIN:VEVENT
UID:20200229T173627UTC-5864RNG0wx@http://www.aonavic.com.au/
DTSTAMP:20200229T173627Z
DESCRIPTION:Register on-line\nMembers FREE. &nbsp\; Non-members $50\nMember
 s log in first to myaccount\, otherwise the system will not recognise you 
 as a member\nNon-members go to events page and follow links for payment. &
 nbsp\; No cash paments taken.\n&nbsp\;Click here for the Flyer/Program htt
 p://www.aonavic.com.au/index.php/component/rseventspro/event/55-clinical-m
 eeting-cranbourne-vic
DTSTART:20180511T223000Z
DTEND:20180512T033000Z
LOCATION:Monash Health 140 - 154 Sladen St\, Cranbourne ()
SUMMARY:Clinical Meeting - Cranbourne VIC
URL:http://www.aonavic.com.au/index.php/component/rseventspro/event/55-clin
 ical-meeting-cranbourne-vic
END:VEVENT
END:VCALENDAR
