BEGIN:VCALENDAR
VERSION:2.0
PRODID:-//http://www.aonavic.com.au///NONSGML kigkonsult.se iCalcreator 2.10.15//
METHOD:PUBLISH
BEGIN:VEVENT
UID:20200229T173616UTC-9773h4nW3H@http://www.aonavic.com.au/
DTSTAMP:20200229T173616Z
DESCRIPTION:&nbsp\; &nbsp\; &nbsp\;Commencing @ 6:30pm&nbsp\;\n&nbsp\; &nbs
 p\; &nbsp\;Guest speaker: Dr Tim Gray\n&nbsp\; &nbsp\; &nbsp\;Subject: AMD
  Masquerading Syndromes\n&nbsp\; &nbsp\; &nbsp\;Please RSVP by the online 
 system&nbsp\; Monday 28th May\n&nbsp\;\nContact: Sharon Dennis&nbsp\;&nbsp
 \; Sharon.dennis@health.sa.gov.au &nbsp\;&nbsp\;&nbsp\; Ph: 8161 2698 /&nb
 sp\;Anne Lentakis AnneL@kingswoodeyecentre.com.au Ph: 8357 8833\nClick her
 e for the Flyer/Program\n http://www.aonavic.com.au/index.php/component/rs
 eventspro/event/59-clinical-meeting-adelaide-sa
DTSTART;VALUE=DATE:20180530
LOCATION:Kingswood Eye Centre\, 367 Glen Osmond Road\, Glen Osmond ()
SUMMARY:Clinical Meeting - Adelaide\, SA
URL:http://www.aonavic.com.au/index.php/component/rseventspro/event/59-clin
 ical-meeting-adelaide-sa
END:VEVENT
END:VCALENDAR
