BEGIN:VCALENDAR
VERSION:2.0
PRODID:-//http://www.aonavic.com.au///NONSGML kigkonsult.se iCalcreator 2.10.15//
METHOD:PUBLISH
BEGIN:VEVENT
UID:20200229T173454UTC-9359Au3aD3@http://www.aonavic.com.au/
DTSTAMP:20200229T173454Z
DESCRIPTION:&nbsp\;Join us as we discover the latest and greatest in ocular
  research\, services and technologies in the fields of AMD\, Artificial In
 telligence &amp\; Bionic Eye\nFor program and details click here\nRegistra
 tion 'click join above'.&nbsp\;\n\nMembers Free: Please log on to your acc
 ount before registering. Otherwise the system will not give you the member
  discount.\nNon-Members: $50.00 please follow payment prompts.\nPlease not
 e: AONAVIC does not accept cash. All registrations must be made via our on
 line system prior to the event. Refunds will be issued up-until 24 hours b
 efore the commencement of the event. Full payment thereafter.\n\n&nbsp\;\n
 &nbsp\; http://www.aonavic.com.au/index.php/component/rseventspro/event/60
 -clinical-meeting-agm-melbourne
DTSTART;VALUE=DATE:20180901
LOCATION:RA Room\, L7 PHW\, Centre for Eye Research Australia\, RVEEH (32 G
 isborne St\, East Melbourne VIC 3002\, Australia)
SUMMARY:Clinical Meeting & AGM - Melbourne
URL:http://www.aonavic.com.au/index.php/component/rseventspro/event/60-clin
 ical-meeting-agm-melbourne
END:VEVENT
END:VCALENDAR
