BEGIN:VCALENDAR
VERSION:2.0
PRODID:-//http://www.aonavic.com.au///NONSGML kigkonsult.se iCalcreator 2.10.15//
METHOD:PUBLISH
BEGIN:VEVENT
UID:20200229T173600UTC-5069bKVXOV@http://www.aonavic.com.au/
DTSTAMP:20200229T173600Z
DESCRIPTION:Click here for program\nSession includes: Alex Hewitt (Glaucoma
  risk) and George Smith (Laser patient case study)\, VIC Orthoptist Lil De
 verell &ndash\; examining the Zroom project\, VIC nurse Robyn Johnston &nd
 ash\; eye drops and ophthalmic nursing up-date\, Collette Kinsella from th
 e AMD Foundation\, a technologies up-date from Alcon &ndash\; and mor http
 ://www.aonavic.com.au/index.php/component/rseventspro/event/63-clinical-me
 eting-hobart
DTSTART;VALUE=DATE:20180804
LOCATION:Hobart Town Hall (Hobart Town Hall\, 50 Macquarie St\, Hobart TAS 
 7000\, Australia)
SUMMARY:Clinical Meeting - Hobart
URL:http://www.aonavic.com.au/index.php/component/rseventspro/event/63-clin
 ical-meeting-hobart
END:VEVENT
END:VCALENDAR
