BEGIN:VCALENDAR
VERSION:2.0
PRODID:-//http://www.aonavic.com.au///NONSGML kigkonsult.se iCalcreator 2.10.15//
METHOD:PUBLISH
BEGIN:VEVENT
UID:20200229T173609UTC-6153vJeTIf@http://www.aonavic.com.au/
DTSTAMP:20200229T173609Z
DESCRIPTION:Commencing @ 6:30pm&nbsp\;\nGuest speaker: Dr Niladri Saha\nSub
 ject: Tales for the Abyss&rdquo\;! - Vitreoretinal surgery\nPlease RSVP by
  the online system&nbsp\; Monday 20th July\nContact: Sharon Dennis&nbsp\;S
 haron.dennis@health.sa.gov.au&nbsp\;Ph: 8161 2698 /&nbsp\;Anne Lentakis An
 neL@kingswoodeyecentre.com.au Ph: 8357 8833\nClick here for program http:/
 /www.aonavic.com.au/index.php/component/rseventspro/event/65-clinical-meet
 ing-adelaide
DTSTART;VALUE=DATE:20180725
LOCATION:Kingswood Eye Centre\, 367 Glen Osmond Road\, Glen Osmond ()
SUMMARY:Clinical Meeting - Adelaide
URL:http://www.aonavic.com.au/index.php/component/rseventspro/event/65-clin
 ical-meeting-adelaide
END:VEVENT
END:VCALENDAR
