BEGIN:VCALENDAR
VERSION:2.0
PRODID:-//http://www.aonavic.com.au///NONSGML kigkonsult.se iCalcreator 2.10.15//
METHOD:PUBLISH
BEGIN:VEVENT
UID:20200229T171814UTC-1661fzBbrG@http://www.aonavic.com.au/
DTSTAMP:20200229T171814Z
DESCRIPTION:\nSponsors for 2018: Gold&nbsp\;Alcon&nbsp\; /&nbsp\;Silver&nbs
 p\;Bayer&nbsp\;/&nbsp\;Bronze&nbsp\;Johnson &amp\; Johnson Vision\n&nbsp\;
 \nVenue: Room RB5: Adelaide Convention Cente&nbsp\;North Terrace\, Adelaid
 e SA 5000 (follow signage. Look for the AONAVIC logo or the Pacific Rim Fl
 yer.\n&nbsp\;\nRegistration (prior to the day. No cash accepted at the eve
 nt).\n\n\n\nRegistration Type\nMember\nNon-Member\n\n\nEarly bird - extend
 ed until October 15th 2018\n170\n200\n\n\nStandard October 15th onwards\n2
 50\n280\n\n\n\nAONA-NSW\,QLD\,WA Members. To obtain the AONAVIC member rat
 e\, please email heather.machin@unimelb.edu.au&nbsp\;\nRegistration to The
  Pacific Rim Conference provides day-of access to both the Nursing Confere
 nce and the RANZCO Sunday 18th activities and exhibit hall. To register fo
 r other RANZCO days\, please visit: http://www.ranzco2018.com/registration
 -categories-and-fees/\, or to purchase tickets to the Saturday 17th RANZCO
  Welcome Receptiom\, please visit:&nbsp\;https://app.certain.com/profile/f
 orm/index.cfm?PKformID=0x2855910abcd&nbsp\; http://www.aonavic.com.au/inde
 x.php/component/rseventspro/event/67-adelaideranzco-nursing-the-pacific-ri
 m-conference
DTSTART;VALUE=DATE:20181118
LOCATION:Adelaide Convention Centre (North Terrace\, Adelaide SA 5000\, Aus
 tralia)
SUMMARY:AdelaideRANZCO Nursing - The Pacific Rim Conference
URL:http://www.aonavic.com.au/index.php/component/rseventspro/event/67-adel
 aideranzco-nursing-the-pacific-rim-conference
END:VEVENT
END:VCALENDAR
