BEGIN:VCALENDAR
VERSION:2.0
PRODID:-//http://www.aonavic.com.au///NONSGML kigkonsult.se iCalcreator 2.10.15//
METHOD:PUBLISH
BEGIN:VEVENT
UID:20200229T173536UTC-2419Eo3ulV@http://www.aonavic.com.au/
DTSTAMP:20200229T173536Z
DESCRIPTION:Registration 'click join above'.&nbsp\;\n\nMembers Free: Please
  log on to your account before registering. Otherwise the system will not 
 give you the member discount.\nNon-Members: $50.00 please follow payment p
 rompts.\nPlease note: AONAVIC does not accept cash. All registrations must
  be made via our online system prior to the event. Refunds will be issued 
 up-until 24 hours before the commencement of the event. Full payment there
 after.\n\n&nbsp\;Program\n&nbsp\; http://www.aonavic.com.au/index.php/comp
 onent/rseventspro/event/73-aonavic-april-clinical-meeting-27th-april-2019
DTSTART;VALUE=DATE:20190427
LOCATION:Centre for Eye Research Australia\, L7\, Peter Howson Wing\, 32 Gi
 sborne Street\, East Melbourne\,  ()
SUMMARY:AONAVIC April Clinical Meeting 27th April 2019
URL:http://www.aonavic.com.au/index.php/component/rseventspro/event/73-aona
 vic-april-clinical-meeting-27th-april-2019
END:VEVENT
END:VCALENDAR
