BEGIN:VCALENDAR
VERSION:2.0
PRODID:-//http://www.aonavic.com.au///NONSGML kigkonsult.se iCalcreator 2.10.15//
METHOD:PUBLISH
BEGIN:VEVENT
UID:20200229T173446UTC-9321HTlKS4@http://www.aonavic.com.au/
DTSTAMP:20200229T173446Z
DESCRIPTION:&nbsp\;\nLast Week to Register&nbsp\;&nbsp\;\n\n\n\n\n&nbsp\;\n
 \nTHE PROGRAM &amp\; SPEAKERS\n&nbsp\;Details regarding the event:\n\nRegi
 stration opens at 08:00 for a program start of 08:45.\nThe program closes 
 at 17:30. Please stay on for happy hour 17:30 - 18:30 should you wish.\nGe
 tting to the venue\n\n\n&nbsp\;\nRegistration now open (click on 'join' at
  the top of this page)\n\n\n\n&nbsp\;In AU$\nEarly Bird closed&nbsp\;&nbsp
 \;\nAfter August 7th&nbsp\;\n\n\nMember\n195\n260\n\n\nNon-Member\n250\n29
 5\n\n\nNovice/graduate nurses and undergraduate students*\n150\n200\n\n\n
 \n&nbsp\;Note:\n\n* Novice/graduate nurses and undergraduate students need
  to contact us via Heather Machin to set this up. Proof of status may be a
 sked.\nAONA NSW\, QLD and WA members may apply for AONAVIC Membership. As 
 the systems do not interact\, you will need to contact&nbsp\;us via Heathe
 r Machin\, to set-up. As this is done manually\, we recommend planning in 
 advance. Prrof of membership may be asked.\nCancellations. We will refund 
 100%&nbsp\;of your registration up until 1 week prior to the event\, and 5
 0% up until 2 days prior. If within 2 days&nbsp\;of the event\, no refund 
 will be awarded.&nbsp\;\nContact:&nbsp\;heather.machin@unimelb.edu.au&nbsp
 \;&nbsp\;\n\n&nbsp\;\n\n&nbsp\;\nGold\, Silver and Bronze Sponsors\n&nbsp\
 ;&nbsp\; &nbsp\; &nbsp\; &nbsp\; &nbsp\; &nbsp\;&nbsp\;&nbsp\; &nbsp\; &nb
 sp\; &nbsp\; &nbsp\; &nbsp\; &nbsp\;\nHosts\n&nbsp\;&nbsp\; &nbsp\;&nbsp\;
 \nFor Partnership opportunities\, please contact heather.machin@unimelb.ed
 u.au\n&nbsp\; http://www.aonavic.com.au/index.php/component/rseventspro/ev
 ent/76-aonavic-state-conference-melbourne
DTSTART;VALUE=DATE:20190914
LOCATION:Jasper Hotel 489 Elizabeth St\, Melbourne VIC 3000 (489 Elizabeth 
 St\, Melbourne VIC 3000)
SUMMARY:AONAVIC State Conference Melbourne
URL:http://www.aonavic.com.au/index.php/component/rseventspro/event/76-aona
 vic-state-conference-melbourne
END:VEVENT
END:VCALENDAR
