BEGIN:VCALENDAR
VERSION:2.0
PRODID:-//http://www.aonavic.com.au///NONSGML kigkonsult.se iCalcreator 2.10.15//
METHOD:PUBLISH
BEGIN:VEVENT
UID:20200229T173525UTC-5474hXWZrU@http://www.aonavic.com.au/
DTSTAMP:20200229T173525Z
DESCRIPTION:Commencing @ 6:30pm&nbsp\;\nGuest speaker: Dr Paul Athanasiov\n
 Subject: Pterigium &amp\; Corneal Surgery: Past versus Present\nMembers Fr
 ee. &nbsp\; &nbsp\; Non-members &nbsp\;$15:00\nPlease RSVP by the online s
 ystem &nbsp\;Friday 16th August\nContact: Ph:&nbsp\;Anne Lentakis AnneL@ki
 ngswoodeyecentre.com.au&nbsp\;Ph: 8357 8833\n&nbsp\; http://www.aonavic.co
 m.au/index.php/component/rseventspro/event/84-clinical-meeting-20th-august
 -2019-adelaide
DTSTART:20190801T083000Z
DTEND:20190820T103126Z
LOCATION:Kingswood Eye Centre\, 367 Glen Osmond Road\, Adelaide S.A.   (367
  Glen Osmond Road Adelaide\, S.A.)
SUMMARY:Clinical Meeting 20th August 2019 - Adelaide
URL:http://www.aonavic.com.au/index.php/component/rseventspro/event/84-clin
 ical-meeting-20th-august-2019-adelaide
END:VEVENT
END:VCALENDAR
