BEGIN:VCALENDAR
VERSION:2.0
PRODID:-//http://www.aonavic.com.au///NONSGML kigkonsult.se iCalcreator 2.10.15//
METHOD:PUBLISH
BEGIN:VEVENT
UID:20200229T173512UTC-0548E6Onxs@http://www.aonavic.com.au/
DTSTAMP:20200229T173512Z
DESCRIPTION:Commencing @ 6:30pm&nbsp\;\nGuest speaker: Professor John Cromp
 ton\nSubject: 'Neuro-ophthalmology - What is that?'\nMembers Free. &nbsp\;
  &nbsp\; Non-members &nbsp\;$15:00\nPlease RSVP by the online system &nbsp
 \;Friday 11th October 2019\n&nbsp\;\nContact: Ph:&nbsp\;Anne Lentakis Anne
 L@kingswoodeyecentre.com.au&nbsp\;Ph: 8357 8833\n&nbsp\; http://www.aonavi
 c.com.au/index.php/component/rseventspro/event/88-clinical-meeting-16th-oc
 otober-2019-adelaide
DTSTART:20191016T073000Z
DTEND:20191016T093126Z
LOCATION:Kingswood Eye Centre\, 367 Glen Osmond Road\, Adelaide\, S.A.   ()
SUMMARY:Clinical Meeting 16th Ocotober 2019 - Adelaide
URL:http://www.aonavic.com.au/index.php/component/rseventspro/event/88-clin
 ical-meeting-16th-ocotober-2019-adelaide
END:VEVENT
END:VCALENDAR
