BEGIN:VCALENDAR
VERSION:2.0
PRODID:-//http://www.aonavic.com.au///NONSGML kigkonsult.se iCalcreator 2.10.15//
METHOD:PUBLISH
BEGIN:VEVENT
UID:20200229T171710UTC-6197E0dz7M@http://www.aonavic.com.au/
DTSTAMP:20200229T171710Z
DESCRIPTION:AONAVIC Clinical Meeting 30th November 2019\nRegistrations open
  from 08:30\nProgram to start at 09:00\nProgram\nRegistration 'click join 
 above'.&nbsp\;\n\nMembers Free: Please log on to your account before regis
 tering. Otherwise the system will not give you the member discount.\nNon-M
 embers: $50.00 please follow payment prompts.\nPlease note: AONAVIC does n
 ot accept cash. All registrations must be made via our online system prior
  to the event. Refunds will be issued up-until 24 hours before the commenc
 ement of the event. Full payment thereafter.\n\n&nbsp\;\n&nbsp\; http://ww
 w.aonavic.com.au/index.php/component/rseventspro/event/91-aonavic-november
 -clinical-meeting-30th-november-2019
DTSTART;VALUE=DATE:20191130
LOCATION:Vermont Private Hospital Level 2 645 - 647 Burwood Highway Vermont
  South\, 3133 (645 - 647 Burwood Highway\, Vermont South\, Victoria 3133)
SUMMARY:AONAVIC November Clinical Meeting 30th November 2019
URL:http://www.aonavic.com.au/index.php/component/rseventspro/event/91-aona
 vic-november-clinical-meeting-30th-november-2019
END:VEVENT
END:VCALENDAR
